BEGIN:VCALENDAR
PRODID:-//IONAS//RIS//DE
VERSION:2.0
CALSCALE:GREGORIAN
BEGIN:VEVENT
DTSTAMP:20260421T153619Z
DTSTART:20250421T170000
DTEND:20250421T190000
SUMMARY:Ältestenrat (19. Sitzung)
LOCATION:Wirtschaftszentrum Gronau\, Ratssaal\, 1. OG\, Fabrikstraße 3\, 
 48599 Gronau
DESCRIPTION:
UID:CiqVKE88Vs5bPECp
END:VEVENT
END:VCALENDAR
