BEGIN:VCALENDAR
PRODID:-//IONAS//RIS//DE
VERSION:2.0
CALSCALE:GREGORIAN
BEGIN:VEVENT
DTSTAMP:20260421T153752Z
DTSTART:20261119T180000
DTEND:20261119T230000
SUMMARY:Ausschuss für Gesundheit\, medizinische Versorgung\, Sport und Eh
 renamt (4. Sitzung)
LOCATION:Wirtschaftszentrum Gronau\, Ratssaal\, 1. OG\, Fabrikstraße 3\, 
 48599 Gronau
DESCRIPTION:
UID:Va-aOmFiIisbp71B
END:VEVENT
END:VCALENDAR
