BEGIN:VCALENDAR
PRODID:-//IONAS//RIS//DE
VERSION:2.0
CALSCALE:GREGORIAN
BEGIN:VEVENT
DTSTAMP:20260421T181622Z
DTSTART:20260422T180000
DTEND:20260422T230000
SUMMARY:Jugendhilfeausschuss (5. Sitzung)
LOCATION:Wirtschaftszentrum Gronau\, Ratssaal\, 1. OG\, Fabrikstraße 3\, 
 48599 Gronau
DESCRIPTION:Tagesordnungspunkte\nI. Öffentlicher Teil\n1. Beschlussfähigk
 eit\n2. Niederschrift vom 19.02.2026\n3. Niederschrift vom 12.03.2026\n4
 . Niederschrift vom 18.03.2026\n5. Jugendhilfeplanung: Betreuungsplätze 
 für Kinder in Kindertageseinrichtungen und Kindertagespflege\, Teil I Fo
 rtschreibung Bedarfsplanung 2026 bis 2030\n6. Mitteilungen der Verwaltun
 g\n7. Anfragen
UID:psPjXODj2qA7paTQ
END:VEVENT
END:VCALENDAR
