BEGIN:VCALENDAR
PRODID:-//IONAS//RIS//DE
VERSION:2.0
CALSCALE:GREGORIAN
BEGIN:VEVENT
DTSTAMP:20260421T152326Z
DTSTART:20260429T180000
DTEND:20260429T230000
SUMMARY:Rat (8. Sitzung)
LOCATION:Wirtschaftszentrum Gronau\, Ratssaal\, 1. OG\, Fabrikstraße 3\, 
 48599 Gronau
DESCRIPTION:Tagesordnungspunkte\nI. Öffentlicher Teil\n1. Beschlussfähigk
 eit\n2. Niederschrift vom 25.03.2026\n3. Niederschrift vom 15.04.2026\n4
 . Beschlusskontrolle\n5. Kita Haus Buterland – Aktualisierung des Ratsbe
 schlusses\n6. Ausblick auf ein Betriebskonzept zur ordnungsrechtlichen U
 nterbringung obdachloser Personen\n7. Dienstanweisung für § 13 KomHVO NR
 W\n8. Jugendhilfeplanung: Betreuungsplätze für Kinder in Kindertageseinr
 ichtungen und Kindertagespflege\, Teil I Fortschreibung Bedarfsplanung 2
 026 bis 2030\n9. Wahl einer/eines Beigeordneten\n10. Berichte aus den Gr
 emien stadteigener Gesellschaften\n11. Mitteilungen der Verwaltung\n12. 
 Anfragen
UID:sb9k01mjd3ihruKR
END:VEVENT
END:VCALENDAR
