BEGIN:VCALENDAR
PRODID:-//IONAS//RIS//DE
VERSION:2.0
CALSCALE:GREGORIAN
BEGIN:VEVENT
DTSTAMP:20260421T153752Z
DTSTART:20260707T180000
DTEND:20260707T230000
SUMMARY:Ausschuss für Gesundheit\, medizinische Versorgung\, Sport und Eh
 renamt (3. Sitzung)
LOCATION:Wirtschaftszentrum Gronau\, Ratssaal\, 1. OG\, Fabrikstraße 3\, 
 48599 Gronau
DESCRIPTION:
UID:tFh1Up9FHHu5092X
END:VEVENT
END:VCALENDAR
